BEGIN:VCALENDAR
VERSION:2.0
PRODID:-//Hotel zur Post & Hochwälder Radstation Kell//NONSGML kigkonsult.s
 e iCalcreator 2.30.10//
CALSCALE:GREGORIAN
METHOD:PUBLISH
UID:835c57a6-7d93-4a71-a8b0-0a49f3fca810
X-WR-CALNAME:iCagenda
X-WR-CALDESC:Event Management Extension for Joomla!
X-WR-RELCALID:3E26604A-50F4-4449-8B3E-E4F4932D05B5
X-WR-TIMEZONE:Europe/Berlin
BEGIN:VTIMEZONE
TZID:Europe/Berlin
BEGIN:STANDARD
TZNAME:CET
DTSTART:20231029T030000
TZOFFSETFROM:+0200
TZOFFSETTO:+0100
RDATE:20241027T030000
END:STANDARD
BEGIN:DAYLIGHT
TZNAME:CEST
DTSTART:20230326T020000
TZOFFSETFROM:+0100
TZOFFSETTO:+0200
RDATE:20240331T020000
RDATE:20250330T020000
END:DAYLIGHT
END:VTIMEZONE
BEGIN:VEVENT
UID:3402253d-df48-4c10-ae35-dfd6465a7b77
DTSTAMP:20260424T184051Z
CATEGORIES:Sonntagsfrühstück
CLASS:PUBLIC
DESCRIPTION;ALTREP="CID:<FFFF__=0ABBE548DFE235B58f9e8a93d@coffeebean.com>":
 Coronabedingt hatten wir einen 3jährigen Aussetzer beim Sonntagsfrühstück\
 , doch jetzt brutscheln wir wieder für Euch! Am letzten Sonntag im Januar 
 und im Februar heißt es wieder 'auf zum Sonntagsfrühstück in der Post'! In
  der Zeit von 9 Uhr bis 11:30 Uhr erwarten Euch Backwaren aus Tobis Backst
 uff\, Kaffees aus der Rösterei Pauli Michels\, Wurstwaren und Hochwälder S
 chinken vom Metzger Schmitt\, Frühstücksfleisch aus der Morbacher Metzgere
 i Kneppel\, frischpürierter Multivitaminsaft\, frische Waffeln aus Omas Ba
 ckbuch\, Fleischkäse und Bioland-Frühstücksspeck von Quint\, Marmeladen vo
 n Mus &amp\; Mehr\, Rohkost\, Joghurt\, frisches Obst &amp\; Säfte.....  P
 ro Person incl. Kaffee 19\,50 €\, auf Kinder freuen wir uns zum reduzierte
 n Preis. Kaffeespezialitäten der Rösterei Pauli Michels werden separat ber
 echnet. Bitte beachten Sie\, dass das Buffet um 11:30 Uhr endet\, da wir a
 b 12 Uhr wieder zum Mittagessen die ersten Tisch reserviert haben. Buchung
  ausschließlich über den kulinarischen Kalender!
DTSTART:20240225T080000Z
DTEND:20240225T103000Z
GEO:00;0
LOCATION:
ORGANIZER:
SEQUENCE:1
SUMMARY:Sonntagsfrühstück im Februar 24
TRANSP:OPAQUE
URL:https://postkueche.de/en/essen-trinken/kulinarischer-kalender/155-febru
 arfruehstueck
END:VEVENT
END:VCALENDAR
