BEGIN:VCALENDAR
VERSION:2.0
PRODID:-//Hotel zur Post & Hochwälder Radstation Kell//NONSGML kigkonsult.s
 e iCalcreator 2.30.10//
CALSCALE:GREGORIAN
METHOD:PUBLISH
UID:1182f846-4e33-4e99-9401-af20e4125294
X-WR-CALNAME:iCagenda
X-WR-CALDESC:Event Management Extension for Joomla!
X-WR-RELCALID:3E26604A-50F4-4449-8B3E-E4F4932D05B5
X-WR-TIMEZONE:Europe/Berlin
BEGIN:VTIMEZONE
TZID:Europe/Berlin
BEGIN:STANDARD
TZNAME:CET
DTSTART:20191027T030000
TZOFFSETFROM:+0200
TZOFFSETTO:+0100
RDATE:20201025T030000
END:STANDARD
BEGIN:DAYLIGHT
TZNAME:CEST
DTSTART:20200329T020000
TZOFFSETFROM:+0100
TZOFFSETTO:+0200
RDATE:20210328T020000
END:DAYLIGHT
END:VTIMEZONE
BEGIN:VEVENT
UID:8db9e888-99f5-4ff8-886f-3f9950581c98
DTSTAMP:20260425T005924Z
CATEGORIES:Fairplay-Team-IGS-Hermeskeil
CLASS:PUBLIC
DESCRIPTION;ALTREP="CID:<FFFF__=0ABBE548DFE235B58f9e8a93d@coffeebean.com>":
 Du startest zwischen 6 und 16 Uhr für 45 Minuten
DTSTART:20200425T040000Z
DTEND:20200425T140000Z
GEO:00;0
LOCATION:
ORGANIZER:
SEQUENCE:1
SUMMARY:Fairplay – Marathon - IGS Hermeskeil - Einzelstarter Samstag (kompl
 ett)
TRANSP:OPAQUE
URL:https://postkueche.de/en/essen-trinken/kulinarischer-kalender/99-2018-0
 6-15-15-12-22
END:VEVENT
END:VCALENDAR
