BEGIN:VCALENDAR
VERSION:2.0
PRODID:-//Hotel zur Post & Hochwälder Radstation Kell//NONSGML kigkonsult.s
 e iCalcreator 2.30.10//
CALSCALE:GREGORIAN
METHOD:PUBLISH
UID:8c055232-c1fe-4f3c-9e26-6a38e0f70421
X-WR-CALNAME:iCagenda
X-WR-CALDESC:Event Management Extension for Joomla!
X-WR-RELCALID:3E26604A-50F4-4449-8B3E-E4F4932D05B5
X-WR-TIMEZONE:Europe/Berlin
BEGIN:VTIMEZONE
TZID:Europe/Berlin
BEGIN:STANDARD
TZNAME:CET
DTSTART:20201025T030000
TZOFFSETFROM:+0200
TZOFFSETTO:+0100
RDATE:20211031T030000
RDATE:20221030T030000
END:STANDARD
BEGIN:DAYLIGHT
TZNAME:CEST
DTSTART:20210328T020000
TZOFFSETFROM:+0100
TZOFFSETTO:+0200
RDATE:20220327T020000
RDATE:20230326T020000
END:DAYLIGHT
END:VTIMEZONE
BEGIN:VEVENT
UID:9a9f56c2-fdca-4321-8340-35ae01559496
DTSTAMP:20260424T164646Z
CATEGORIES:Kartoffeltage
CLASS:PUBLIC
DESCRIPTION;ALTREP="CID:<FFFF__=0ABBE548DFE235B58f9e8a93d@coffeebean.com>":
 An den beiden Mittwochabenden während der Kartoffeltagen heißt es: Die Woc
 he teilen mit Kartoffelfreunden. Zum reduzierten Preis von 26\,50 € bieten
  wir das gleiche Buffet wie sonntags an. Mit Freunden\, Arbeitskollegen\, 
 Nachbarn\, Hauptsache Krompern!
DTSTART:20211013T160000Z
DTEND:20211013T183000Z
GEO:00;0
LOCATION:
ORGANIZER:
SEQUENCE:1
SUMMARY:Die Woche teilen mit Kartoffelfreunden
TRANSP:OPAQUE
URL:https://postkueche.de/essen-trinken/kulinarischer-kalender/108-kartoffe
 l-sonntagsbuffet-14
END:VEVENT
END:VCALENDAR
