BEGIN:VCALENDAR
VERSION:2.0
PRODID:-//Hotel zur Post & Hochwälder Radstation Kell//NONSGML kigkonsult.s
 e iCalcreator 2.30.10//
CALSCALE:GREGORIAN
METHOD:PUBLISH
UID:4dc0ddee-b8f2-4733-b169-e93ce2b24b62
X-WR-CALNAME:iCagenda
X-WR-CALDESC:Event Management Extension for Joomla!
X-WR-RELCALID:3E26604A-50F4-4449-8B3E-E4F4932D05B5
X-WR-TIMEZONE:Europe/Berlin
BEGIN:VTIMEZONE
TZID:Europe/Berlin
BEGIN:STANDARD
TZNAME:CET
DTSTART:20171029T030000
TZOFFSETFROM:+0200
TZOFFSETTO:+0100
RDATE:20181028T030000
RDATE:20191027T030000
END:STANDARD
BEGIN:DAYLIGHT
TZNAME:CEST
DTSTART:20180325T020000
TZOFFSETFROM:+0100
TZOFFSETTO:+0200
RDATE:20190331T020000
END:DAYLIGHT
END:VTIMEZONE
BEGIN:VEVENT
UID:d7c832a7-0154-429c-a6f9-59cede99f755
DTSTAMP:20260425T165207Z
CATEGORIES:Radveranstaltungen
CLASS:PUBLIC
DESCRIPTION;ALTREP="CID:<FFFF__=0ABBE548DFE235B58f9e8a93d@coffeebean.com>":
 Wegen der Schlechtwetterprognose für morgen\, Sonntag\, verschieben wir de
 n Kurs aus Sicherheitsgründen. Es wird 2 Ersatztermine geben\, voraussicht
 lich 30.09. und 14.10.Info folgt! Alle gemeldeten Teilnehmer werden heute 
 per Mail informiert..... 
DTSTART:20180923T110000Z
DTEND:20180923T150000Z
GEO:00;0
LOCATION:
ORGANIZER:
SEQUENCE:1
SUMMARY:Fahrtechnik mit DIMB – Guide Tobi Witzack - Techniktraining für Anf
 änger
TRANSP:OPAQUE
URL:https://postkueche.de/essen-trinken/kulinarischer-kalender/15-techniktr
 aining-fuer-anfaenger
END:VEVENT
END:VCALENDAR
