BEGIN:VCALENDAR
VERSION:2.0
PRODID:-//Hotel zur Post & Hochwälder Radstation Kell//NONSGML kigkonsult.s
 e iCalcreator 2.30.10//
CALSCALE:GREGORIAN
METHOD:PUBLISH
UID:f7724373-ad57-4651-87e9-ef0d139fb02b
X-WR-CALNAME:iCagenda
X-WR-CALDESC:Event Management Extension for Joomla!
X-WR-RELCALID:3E26604A-50F4-4449-8B3E-E4F4932D05B5
X-WR-TIMEZONE:Europe/Berlin
BEGIN:VTIMEZONE
TZID:Europe/Berlin
BEGIN:STANDARD
TZNAME:CET
DTSTART:20231029T030000
TZOFFSETFROM:+0200
TZOFFSETTO:+0100
RDATE:20241027T030000
END:STANDARD
BEGIN:DAYLIGHT
TZNAME:CEST
DTSTART:20230326T020000
TZOFFSETFROM:+0100
TZOFFSETTO:+0200
RDATE:20240331T020000
RDATE:20250330T020000
END:DAYLIGHT
END:VTIMEZONE
BEGIN:VEVENT
UID:23e0bcf1-a81f-4668-bed3-880742c078c9
DTSTAMP:20260424T201835Z
CATEGORIES:Winterzeit
CLASS:PUBLIC
DESCRIPTION;ALTREP="CID:<FFFF__=0ABBE548DFE235B58f9e8a93d@coffeebean.com>":
 Einen gemütlichen Abend bei einer reichhaltigen Auswahl am Wildbuffet der 
 LiveKüche\, das ist NEU im Rahmen der Wildwochen. Nach einer servierten Ch
 ampignoncrèmesuppe mit Streifen von Hochwälder Wildschweinschinken starten
  wir in der LiveKüche: Kurzgebratenes aus dem Rücken kommt ebenso auf den 
 Grill wie geschmorte Wildschweinkeulen oder zu Sauerbraten eingelegen Brat
 enstücken nach Omas Rezepten. Die Rohstoffe der passenden Beilagen sind na
 türlich genau wie das Wild aus Region\, also von Hei! Zum Abschluß lockt e
 in Dessertbuffet. Pro Person 37\,50 €\, Kinder reduziert. 
DTSTART:20231118T173000Z
DTEND:20231118T193000Z
GEO:00;0
LOCATION:
ORGANIZER:
SEQUENCE:1
SUMMARY:Abendbuffet im Rahmen der Hochwälder Wildwochen 2_23
TRANSP:OPAQUE
URL:https://postkueche.de/essen-trinken/kulinarischer-kalender/154-wildbuff
 et-im-rahmen-der-hochwaelder-wildwochen-9
END:VEVENT
END:VCALENDAR
