BEGIN:VCALENDAR
VERSION:2.0
PRODID:-//Hotel zur Post & Hochwälder Radstation Kell//NONSGML kigkonsult.s
 e iCalcreator 2.30.10//
CALSCALE:GREGORIAN
METHOD:PUBLISH
UID:2ec5e77a-cf42-4f35-86ba-8dce0c10c05e
X-WR-CALNAME:iCagenda
X-WR-CALDESC:Event Management Extension for Joomla!
X-WR-RELCALID:3E26604A-50F4-4449-8B3E-E4F4932D05B5
X-WR-TIMEZONE:Europe/Berlin
BEGIN:VTIMEZONE
TZID:Europe/Berlin
BEGIN:STANDARD
TZNAME:CET
DTSTART:20231029T030000
TZOFFSETFROM:+0200
TZOFFSETTO:+0100
RDATE:20241027T030000
RDATE:20251026T030000
END:STANDARD
BEGIN:DAYLIGHT
TZNAME:CEST
DTSTART:20240331T020000
TZOFFSETFROM:+0100
TZOFFSETTO:+0200
RDATE:20250330T020000
RDATE:20260329T020000
END:DAYLIGHT
END:VTIMEZONE
BEGIN:VEVENT
UID:c3437c8b-ee16-41e6-ab0b-13f3e9a8a901
DTSTAMP:20260425T112344Z
CATEGORIES:Kartoffeltage
CLASS:PUBLIC
DESCRIPTION;ALTREP="CID:<FFFF__=0ABBE548DFE235B58f9e8a93d@coffeebean.com>":
 Kartoffelbuffet frisch aus der LiveKüche auch am Mittwochabend. Gleiches B
 uffet wie Sonntagmittag\, bestehend aus Kartoffelsuppe\, Vorspeisenbuffet 
 und 3 Hauptgerichten mit 5 Kartoffelbeilagen aus Hochwälder Krompern\, plu
 s serviertem Kartoffeldessert. In der Wochenmitte\, mit Freunden\, Kollege
 n oder einfach so.... Pro Person 31\,50 €\, Kinder reduziert\, Beginn 18:3
 0 Uhr
DTSTART:20241016T163000Z
DTEND:20241016T183000Z
GEO:00;0
LOCATION:
ORGANIZER:
SEQUENCE:1
SUMMARY:Die Woche teilen mit Kartoffelfreunden  2_24
TRANSP:OPAQUE
URL:https://postkueche.de/essen-trinken/kulinarischer-kalender/171-kartoffe
 lfreunde-161024
END:VEVENT
END:VCALENDAR
