BEGIN:VCALENDAR
VERSION:2.0
PRODID:-//Hotel zur Post & Hochwälder Radstation Kell//NONSGML kigkonsult.s
 e iCalcreator 2.30.10//
CALSCALE:GREGORIAN
METHOD:PUBLISH
UID:d6c46a65-97d5-4bdc-9e76-fab1ad3a6061
X-WR-CALNAME:iCagenda
X-WR-CALDESC:Event Management Extension for Joomla!
X-WR-RELCALID:3E26604A-50F4-4449-8B3E-E4F4932D05B5
X-WR-TIMEZONE:Europe/Berlin
BEGIN:VTIMEZONE
TZID:Europe/Berlin
BEGIN:STANDARD
TZNAME:CET
DTSTART:20251026T030000
TZOFFSETFROM:+0200
TZOFFSETTO:+0100
RDATE:20261025T030000
END:STANDARD
BEGIN:DAYLIGHT
TZNAME:CEST
DTSTART:20250330T020000
TZOFFSETFROM:+0100
TZOFFSETTO:+0200
RDATE:20260329T020000
RDATE:20270328T020000
END:DAYLIGHT
END:VTIMEZONE
BEGIN:VEVENT
UID:f226a51c-6c9d-4f5e-8ffc-a7f72d71195a
DTSTAMP:20260425T004305Z
CATEGORIES:Radveranstaltungen
CLASS:PUBLIC
DESCRIPTION;ALTREP="CID:<FFFF__=0ABBE548DFE235B58f9e8a93d@coffeebean.com>":
 Lasst Euch mitreißen von motivierenden Beats und guter Laune auf dem Rad! 
 Wir verbrennen mit Euch den Weihnachtsspeck\, bevor er ansetzt! Wir starte
 n am Dienstag dem 18. November und treffen uns anschließend 4 x bis kurz v
 or Weihnachten\, um jeweils 60 Minuten gemeinsam auf dem Rad Gas zu geben.
  Schnupperstunde am 18.11\, plus 4 Kurseinheiten je 60 Minuten am 25.11./0
 2.12./09.12/16.12. zum Preis von 49\,- € incl. Wasser &amp\; Obst. Minimal
 e Teilnehmerzahl: 8\, Maximal 12.  Trainer: Michael Krämer
DTSTART:20251118T160000Z
DTEND:20251118T170000Z
GEO:00;0
LOCATION:
ORGANIZER:
SEQUENCE:1
SUMMARY:Jahresendspurt mit Beats & guter Laune\, Indoorcycling - Einsteiger
 kurs
TRANSP:OPAQUE
URL:https://postkueche.de/essen-trinken/kulinarischer-kalender/211-jahresen
 dspurt-mit-beats-guter-laune-indoorcycling-einsteigerkurs
END:VEVENT
END:VCALENDAR
