BEGIN:VCALENDAR
VERSION:2.0
PRODID:-//Hotel zur Post & Hochwälder Radstation Kell//NONSGML kigkonsult.s
 e iCalcreator 2.30.10//
CALSCALE:GREGORIAN
METHOD:PUBLISH
UID:cd6fed58-4cc7-4cbf-b3a1-39af9cc88b27
X-WR-CALNAME:iCagenda
X-WR-CALDESC:Event Management Extension for Joomla!
X-WR-RELCALID:3E26604A-50F4-4449-8B3E-E4F4932D05B5
X-WR-TIMEZONE:Europe/Berlin
BEGIN:VTIMEZONE
TZID:Europe/Berlin
BEGIN:STANDARD
TZNAME:CET
DTSTART:20251026T030000
TZOFFSETFROM:+0200
TZOFFSETTO:+0100
RDATE:20261025T030000
END:STANDARD
BEGIN:DAYLIGHT
TZNAME:CEST
DTSTART:20260329T020000
TZOFFSETFROM:+0100
TZOFFSETTO:+0200
RDATE:20270328T020000
END:DAYLIGHT
END:VTIMEZONE
BEGIN:VEVENT
UID:79c2ec7f-494f-44af-b0e5-0a973b54d4b2
DTSTAMP:20260419T171817Z
CATEGORIES:Winterzeit
CLASS:PUBLIC
DESCRIPTION;ALTREP="CID:<FFFF__=0ABBE548DFE235B58f9e8a93d@coffeebean.com>":
 Freut Euch auf die ersten Gerüche\, die Lust auf Frühling machen! Nach dem
  Vorspeisenbuffet\, bestehend aus Suppe\, Salatbuffet sowie kalten und war
 men Vorspeisen unserer regionalen Partner\,  bedient sich die ganze Famili
 e am Buffet der LiveKüche.  Wir brutscheln für Euch 3 Hauptgerichte mit de
 n passenden Beilagen. Zum Schluss lockt das Dessertbuffet. Pro Person 36\,
 50 €\, Kinder wie immer reduziert. Start 11:30 Uhr!
DTSTART:20260405T093000Z
DTEND:20260405T120000Z
GEO:00;0
LOCATION:
ORGANIZER:
SEQUENCE:1
SUMMARY:Osterbuffet an Ostersonntag
TRANSP:OPAQUE
URL:https://postkueche.de/en/essen-trinken/kulinarischer-kalender/220-oster
 buffet-26
END:VEVENT
END:VCALENDAR
